BEGIN:VCALENDAR
VERSION:2.0
PRODID:-//www.reinach-redet.ch//NONSGML kigkonsult.se iCalcreator 2.22//
CALSCALE:GREGORIAN
METHOD:PUBLISH
X-WR-TIMEZONE:Europe/Berlin
BEGIN:VEVENT
UID:20260423T132302CEST-7459C1RxJl@www.reinach-redet.ch
DTSTAMP:20260423T112302Z
DESCRIPTION:Klicken Sie auf den folgenden Link\, um weitere Informationen z
 ur Veranstaltung zu erhalten:\nhttp://www.reinach-redet.ch/de/abfallwirtsc
 haft/abfallkalender/detail/detail.php?i=
DTSTART;VALUE=DATE:20260929
LOCATION:Kreis West
SUMMARY:Grünabfuhr/Bioabfall
END:VEVENT
END:VCALENDAR
