BEGIN:VCALENDAR
VERSION:2.0
PRODID:-//www.reinach-redet.ch//NONSGML kigkonsult.se iCalcreator 2.22//
CALSCALE:GREGORIAN
METHOD:PUBLISH
X-WR-TIMEZONE:Europe/Berlin
BEGIN:VEVENT
UID:20260423T132251CEST-5167hbhvwp@www.reinach-redet.ch
DTSTAMP:20260423T112251Z
DESCRIPTION:Klicken Sie auf den folgenden Link\, um weitere Informationen z
 ur Veranstaltung zu erhalten:\nhttp://www.reinach-redet.ch/de/abfallwirtsc
 haft/abfallkalender/detail/detail.php?i=
DTSTART;VALUE=DATE:20260708
LOCATION:Kreis Ost
SUMMARY:Karton
END:VEVENT
END:VCALENDAR
