BEGIN:VCALENDAR
VERSION:2.0
PRODID:-//www.reinach-redet.ch//NONSGML kigkonsult.se iCalcreator 2.22//
CALSCALE:GREGORIAN
METHOD:PUBLISH
X-WR-TIMEZONE:Europe/Berlin
BEGIN:VEVENT
UID:20260423T132346CEST-68403o0mJl@www.reinach-redet.ch
DTSTAMP:20260423T112346Z
DESCRIPTION:Klicken Sie auf den folgenden Link\, um weitere Informationen z
 ur Veranstaltung zu erhalten:\nhttp://www.reinach-redet.ch/de/abfallwirtsc
 haft/abfallkalender/detail/detail.php?i=
DTSTART;VALUE=DATE:20260826
LOCATION:Kreis West
SUMMARY:Häckseldienst
END:VEVENT
END:VCALENDAR
