BEGIN:VCALENDAR
VERSION:2.0
PRODID:-//www.reinach-redet.ch//NONSGML kigkonsult.se iCalcreator 2.22//
CALSCALE:GREGORIAN
METHOD:PUBLISH
X-WR-TIMEZONE:Europe/Berlin
BEGIN:VEVENT
UID:20260423T115012CEST-9869VCcosU@www.reinach-redet.ch
DTSTAMP:20260423T095012Z
DESCRIPTION:Klicken Sie auf den folgenden Link\, um weitere Informationen z
 ur Veranstaltung zu erhalten:\nhttp://www.reinach-redet.ch/de/veranstaltun
 gen/detail/detail.php?i=10441
DTSTART:20260510T170000
DTEND:20260510T190000
LOCATION:Katholische Kirche St. Nikolaus
SUMMARY:Frühlingskonzert Orchester Reinach
END:VEVENT
END:VCALENDAR
