BEGIN:VCALENDAR
VERSION:2.0
PRODID:-//www.reinach-redet.ch//NONSGML kigkonsult.se iCalcreator 2.22//
CALSCALE:GREGORIAN
METHOD:PUBLISH
X-WR-TIMEZONE:Europe/Berlin
BEGIN:VEVENT
UID:20260423T131326CEST-8315Ek7UWB@www.reinach-redet.ch
DTSTAMP:20260423T111326Z
DESCRIPTION:Klicken Sie auf den folgenden Link\, um weitere Informationen z
 ur Veranstaltung zu erhalten:\nhttp://www.reinach-redet.ch/de/veranstaltun
 gen/detail/detail.php?i=10588
DTSTART:20260504T193000
DTEND:20260504T220000
LOCATION:
SUMMARY:519. Einwohnerratssitzung
END:VEVENT
END:VCALENDAR
