BEGIN:VCALENDAR
VERSION:2.0
PRODID:-//www.reinach-redet.ch//NONSGML kigkonsult.se iCalcreator 2.22//
CALSCALE:GREGORIAN
METHOD:PUBLISH
X-WR-TIMEZONE:Europe/Berlin
BEGIN:VEVENT
UID:20260423T103542CEST-1593vci8ar@www.reinach-redet.ch
DTSTAMP:20260423T083542Z
DESCRIPTION:Klicken Sie auf den folgenden Link\, um weitere Informationen z
 ur Veranstaltung zu erhalten:\nhttp://www.reinach-redet.ch/de/veranstaltun
 gen/detail/detail.php?i=10607
DTSTART:20260418T150000
DTEND:20260418T170000
LOCATION:Reformiertes Zentrum Mischeli
SUMMARY:Mischeli-Forum
END:VEVENT
END:VCALENDAR
