BEGIN:VCALENDAR
VERSION:2.0
PRODID:-//www.reinach-redet.ch//NONSGML kigkonsult.se iCalcreator 2.22//
CALSCALE:GREGORIAN
METHOD:PUBLISH
X-WR-TIMEZONE:Europe/Berlin
BEGIN:VEVENT
UID:20260423T115201CEST-1293DxpAsv@www.reinach-redet.ch
DTSTAMP:20260423T095201Z
DESCRIPTION:Klicken Sie auf den folgenden Link\, um weitere Informationen z
 ur Veranstaltung zu erhalten:\nhttp://www.reinach-redet.ch/de/veranstaltun
 gen/detail/detail.php?i=10638
DTSTART:20260603T140000
DTEND:20260603T160000
LOCATION:Jugendhaus Palais noir
SUMMARY:Girls* Treff im Jugendhaus
END:VEVENT
END:VCALENDAR
