BEGIN:VCALENDAR
VERSION:2.0
PRODID:-//www.reinach-redet.ch//NONSGML kigkonsult.se iCalcreator 2.22//
CALSCALE:GREGORIAN
METHOD:PUBLISH
X-WR-TIMEZONE:Europe/Berlin
BEGIN:VEVENT
UID:20260423T115014CEST-0647b4RVgO@www.reinach-redet.ch
DTSTAMP:20260423T095014Z
DESCRIPTION:Klicken Sie auf den folgenden Link\, um weitere Informationen z
 ur Veranstaltung zu erhalten:\nhttp://www.reinach-redet.ch/de/veranstaltun
 gen/detail/detail.php?i=10643
DTSTART:20260513T140000
DTEND:20260513T160000
LOCATION:Jugendhaus Palais noir
SUMMARY:Boys* Treff im Jugendhaus
END:VEVENT
END:VCALENDAR
