BEGIN:VCALENDAR
VERSION:2.0
PRODID:-//www.reinach-redet.ch//NONSGML kigkonsult.se iCalcreator 2.22//
CALSCALE:GREGORIAN
METHOD:PUBLISH
X-WR-TIMEZONE:Europe/Berlin
BEGIN:VEVENT
UID:20260423T131229CEST-2506CI4hiv@www.reinach-redet.ch
DTSTAMP:20260423T111229Z
DESCRIPTION:Klicken Sie auf den folgenden Link\, um weitere Informationen z
 ur Veranstaltung zu erhalten:\nhttp://www.reinach-redet.ch/de/veranstaltun
 gen/detail/detail.php?i=10669
DTSTART:20260623T160000
DTEND:20260623T200000
LOCATION:Jugendhaus Palais noir
SUMMARY:Palais z'Nacht für Jugendliche
END:VEVENT
END:VCALENDAR
