BEGIN:VCALENDAR
VERSION:2.0
PRODID:-//www.reinach-redet.ch//NONSGML kigkonsult.se iCalcreator 2.22//
CALSCALE:GREGORIAN
METHOD:PUBLISH
X-WR-TIMEZONE:Europe/Berlin
BEGIN:VEVENT
UID:20260423T131341CEST-6279SKRjr5@www.reinach-redet.ch
DTSTAMP:20260423T111341Z
DESCRIPTION:Klicken Sie auf den folgenden Link\, um weitere Informationen z
 ur Veranstaltung zu erhalten:\nhttp://www.reinach-redet.ch/de/veranstaltun
 gen/detail/detail.php?i=10732
DTSTART:20260506T190000
DTEND:20260506T210000
LOCATION:Gemeinde- und Schulbibliothek Reinach
SUMMARY:Referat mit Sandra Probst - Wechseljahre und Ernährung
END:VEVENT
END:VCALENDAR
