BEGIN:VCALENDAR
VERSION:2.0
PRODID:-//www.reinach-redet.ch//NONSGML kigkonsult.se iCalcreator 2.22//
CALSCALE:GREGORIAN
METHOD:PUBLISH
X-WR-TIMEZONE:Europe/Berlin
BEGIN:VEVENT
UID:20260423T131328CEST-2597a1WZch@www.reinach-redet.ch
DTSTAMP:20260423T111328Z
DESCRIPTION:Klicken Sie auf den folgenden Link\, um weitere Informationen z
 ur Veranstaltung zu erhalten:\nhttp://www.reinach-redet.ch/de/veranstaltun
 gen/detail/detail.php?i=10745
DTSTART:20260625T163000
DTEND:20260625T190000
LOCATION:Restaurant Piazza
SUMMARY:After Work Lounge Piazza (WBZ)
END:VEVENT
END:VCALENDAR
