BEGIN:VCALENDAR
VERSION:2.0
PRODID:-//www.reinach-redet.ch//NONSGML kigkonsult.se iCalcreator 2.22//
CALSCALE:GREGORIAN
METHOD:PUBLISH
X-WR-TIMEZONE:Europe/Berlin
BEGIN:VEVENT
UID:20260423T115050CEST-4125DxIvt3@www.reinach-redet.ch
DTSTAMP:20260423T095050Z
DESCRIPTION:Klicken Sie auf den folgenden Link\, um weitere Informationen z
 ur Veranstaltung zu erhalten:\nhttp://www.reinach-redet.ch/de/veranstaltun
 gen/detail/detail.php?i=10747
DTSTART:20260705T133000
DTEND:20260705T143000
LOCATION:Wohn- und Bürozentrum für Körperbehinderte (WBZ)
SUMMARY:Kultur am Sunntig im WBZ mit Little Chevy
END:VEVENT
END:VCALENDAR
