BEGIN:VCALENDAR
VERSION:2.0
PRODID:-//www.reinach-redet.ch//NONSGML kigkonsult.se iCalcreator 2.22//
CALSCALE:GREGORIAN
METHOD:PUBLISH
X-WR-TIMEZONE:Europe/Berlin
BEGIN:VEVENT
UID:20260423T115202CEST-1534xnRglP@www.reinach-redet.ch
DTSTAMP:20260423T095202Z
DESCRIPTION:Klicken Sie auf den folgenden Link\, um weitere Informationen z
 ur Veranstaltung zu erhalten:\nhttp://www.reinach-redet.ch/de/veranstaltun
 gen/detail/detail.php?i=10755
DTSTART:20261030T170000
DTEND:20261102T180000
LOCATION:Wohn- und Bürozentrum für Körperbehinderte (WBZ)
SUMMARY:WBZ-Flohmarkt
END:VEVENT
END:VCALENDAR
