BEGIN:VCALENDAR
VERSION:2.0
PRODID:-//www.reinach-redet.ch//NONSGML kigkonsult.se iCalcreator 2.22//
CALSCALE:GREGORIAN
METHOD:PUBLISH
X-WR-TIMEZONE:Europe/Berlin
BEGIN:VEVENT
UID:20260423T115142CEST-62059ulVBd@www.reinach-redet.ch
DTSTAMP:20260423T095142Z
DESCRIPTION:Klicken Sie auf den folgenden Link\, um weitere Informationen z
 ur Veranstaltung zu erhalten:\nhttp://www.reinach-redet.ch/de/veranstaltun
 gen/detail/detail.php?i=10756
DTSTART:20261101T110000
DTEND:20261101T120000
LOCATION:Wohn- und Bürozentrum für Körperbehinderte (WBZ)
SUMMARY:Benefiz-Jazz-Matinée 'Loamvalley Stompers'
END:VEVENT
END:VCALENDAR
