BEGIN:VCALENDAR
VERSION:2.0
PRODID:-//www.reinach-redet.ch//NONSGML kigkonsult.se iCalcreator 2.22//
CALSCALE:GREGORIAN
METHOD:PUBLISH
X-WR-TIMEZONE:Europe/Berlin
BEGIN:VEVENT
UID:20260423T115304CEST-3514h76ZzE@www.reinach-redet.ch
DTSTAMP:20260423T095304Z
DESCRIPTION:Klicken Sie auf den folgenden Link\, um weitere Informationen z
 ur Veranstaltung zu erhalten:\nhttp://www.reinach-redet.ch/de/veranstaltun
 gen/detail/detail.php?i=10785
DTSTART:20260424T193000
DTEND:20260424T210000
LOCATION:Neues Theater Dornach
SUMMARY:Zum Beispiel Wölfe
END:VEVENT
END:VCALENDAR
