BEGIN:VCALENDAR
VERSION:2.0
PRODID:-//www.reinach-redet.ch//NONSGML kigkonsult.se iCalcreator 2.22//
CALSCALE:GREGORIAN
METHOD:PUBLISH
X-WR-TIMEZONE:Europe/Berlin
BEGIN:VEVENT
UID:20260423T131347CEST-3018SI5k1p@www.reinach-redet.ch
DTSTAMP:20260423T111347Z
DESCRIPTION:Klicken Sie auf den folgenden Link\, um weitere Informationen z
 ur Veranstaltung zu erhalten:\nhttp://www.reinach-redet.ch/de/veranstaltun
 gen/detail/detail.php?i=10790
DTSTART:20260509T193000
DTEND:20260509T213000
LOCATION:Neues Theater Dornach
SUMMARY:Kala Chakra
END:VEVENT
END:VCALENDAR
