BEGIN:VCALENDAR
VERSION:2.0
PRODID:-//www.reinach-redet.ch//NONSGML kigkonsult.se iCalcreator 2.22//
CALSCALE:GREGORIAN
METHOD:PUBLISH
X-WR-TIMEZONE:Europe/Berlin
BEGIN:VEVENT
UID:20260423T131341CEST-3233NzUpog@www.reinach-redet.ch
DTSTAMP:20260423T111341Z
DESCRIPTION:Klicken Sie auf den folgenden Link\, um weitere Informationen z
 ur Veranstaltung zu erhalten:\nhttp://www.reinach-redet.ch/de/veranstaltun
 gen/detail/detail.php?i=10791
DTSTART:20260510T180000
DTEND:20260510T200000
LOCATION:Neues Theater Dornach
SUMMARY:Kala Chakra
END:VEVENT
END:VCALENDAR
