BEGIN:VCALENDAR
VERSION:2.0
PRODID:-//www.reinach-redet.ch//NONSGML kigkonsult.se iCalcreator 2.22//
CALSCALE:GREGORIAN
METHOD:PUBLISH
X-WR-TIMEZONE:Europe/Berlin
BEGIN:VEVENT
UID:20260423T115024CEST-3140djWP71@www.reinach-redet.ch
DTSTAMP:20260423T095024Z
DESCRIPTION:Klicken Sie auf den folgenden Link\, um weitere Informationen z
 ur Veranstaltung zu erhalten:\nhttp://www.reinach-redet.ch/de/veranstaltun
 gen/detail/detail.php?i=10835
DTSTART:20260930T093000
DTEND:20260930T101500
LOCATION:
SUMMARY:Mir laufe zämme
END:VEVENT
END:VCALENDAR
