BEGIN:VCALENDAR
VERSION:2.0
PRODID:-//www.reinach-redet.ch//NONSGML kigkonsult.se iCalcreator 2.22//
CALSCALE:GREGORIAN
METHOD:PUBLISH
X-WR-TIMEZONE:Europe/Berlin
BEGIN:VEVENT
UID:20260423T115040CEST-4390SXvPnU@www.reinach-redet.ch
DTSTAMP:20260423T095040Z
DESCRIPTION:Klicken Sie auf den folgenden Link\, um weitere Informationen z
 ur Veranstaltung zu erhalten:\nhttp://www.reinach-redet.ch/de/veranstaltun
 gen/detail/detail.php?i=10853
DTSTART:20260620T180000
DTEND:20260621T140000
LOCATION:Gemeindehaus-\, Angensteiner-\, Feigenwinterplatz\, Vorplatz Schre
 inerei Wenger (Ziegelgasse)
SUMMARY:Jazz Weekend
END:VEVENT
END:VCALENDAR
