BEGIN:VCALENDAR
VERSION:2.0
PRODID:-//www.reinach-redet.ch//NONSGML kigkonsult.se iCalcreator 2.22//
CALSCALE:GREGORIAN
METHOD:PUBLISH
X-WR-TIMEZONE:Europe/Berlin
BEGIN:VEVENT
UID:20260423T115141CEST-9193igxb5r@www.reinach-redet.ch
DTSTAMP:20260423T095141Z
DESCRIPTION:Klicken Sie auf den folgenden Link\, um weitere Informationen z
 ur Veranstaltung zu erhalten:\nhttp://www.reinach-redet.ch/de/veranstaltun
 gen/detail/detail.php?i=10856
DTSTART:20260508T000000
DTEND:20260523T000000
LOCATION:Hotel Restaurant Hofmatt 
SUMMARY:Funny Money - Theater Schemeli Bühne Reinach
END:VEVENT
END:VCALENDAR
