BEGIN:VCALENDAR
VERSION:2.0
PRODID:-//www.reinach-redet.ch//NONSGML kigkonsult.se iCalcreator 2.22//
CALSCALE:GREGORIAN
METHOD:PUBLISH
X-WR-TIMEZONE:Europe/Berlin
BEGIN:VEVENT
UID:20260423T115024CEST-39406sbcrA@www.reinach-redet.ch
DTSTAMP:20260423T095024Z
DESCRIPTION:Klicken Sie auf den folgenden Link\, um weitere Informationen z
 ur Veranstaltung zu erhalten:\nhttp://www.reinach-redet.ch/de/veranstaltun
 gen/detail/detail.php?i=10879
DTSTART:20260714T180000
DTEND:20260714T220000
LOCATION:
SUMMARY:Livemusik im Restaurant Wacker mit Vincent Menweg
END:VEVENT
END:VCALENDAR
