BEGIN:VCALENDAR
VERSION:2.0
PRODID:-//www.reinach-redet.ch//NONSGML kigkonsult.se iCalcreator 2.22//
CALSCALE:GREGORIAN
METHOD:PUBLISH
X-WR-TIMEZONE:Europe/Berlin
BEGIN:VEVENT
UID:20260423T115252CEST-6469thzsls@www.reinach-redet.ch
DTSTAMP:20260423T095252Z
DESCRIPTION:Klicken Sie auf den folgenden Link\, um weitere Informationen z
 ur Veranstaltung zu erhalten:\nhttp://www.reinach-redet.ch/de/veranstaltun
 gen/detail/detail.php?i=10887
DTSTART:20260509T083000
DTEND:20260509T110000
LOCATION:Treffpunkt Leimgruberhaus\, Schulgasse 1\, 4153 Reinach BL
SUMMARY:Wie fühlt ein Mensch mit Demenz?
END:VEVENT
END:VCALENDAR
