BEGIN:VCALENDAR
VERSION:2.0
PRODID:-//www.reinach-redet.ch//NONSGML kigkonsult.se iCalcreator 2.22//
CALSCALE:GREGORIAN
METHOD:PUBLISH
X-WR-TIMEZONE:Europe/Berlin
BEGIN:VEVENT
UID:20260423T115252CEST-8575HvkGop@www.reinach-redet.ch
DTSTAMP:20260423T095252Z
DESCRIPTION:Klicken Sie auf den folgenden Link\, um weitere Informationen z
 ur Veranstaltung zu erhalten:\nhttp://www.reinach-redet.ch/de/veranstaltun
 gen/detail/detail.php?i=10888
DTSTART:20260529T180000
DTEND:20260530T170000
LOCATION:Treffpunkt Leimgruberhaus
SUMMARY:Babysitting-Kurs SRK für Jugendliche
END:VEVENT
END:VCALENDAR
