BEGIN:VCALENDAR
VERSION:2.0
PRODID:-//www.reinach-redet.ch//NONSGML kigkonsult.se iCalcreator 2.22//
CALSCALE:GREGORIAN
METHOD:PUBLISH
X-WR-TIMEZONE:Europe/Berlin
BEGIN:VEVENT
UID:20260423T114852CEST-8707KH9poT@www.reinach-redet.ch
DTSTAMP:20260423T094852Z
DESCRIPTION:Klicken Sie auf den folgenden Link\, um weitere Informationen z
 ur Veranstaltung zu erhalten:\nhttp://www.reinach-redet.ch/de/veranstaltun
 gen/detail/detail.php?i=11010
DTSTART:20260514T193000
DTEND:20260514T210000
LOCATION:Gartenareal Restaurant Predigerhof
SUMMARY:Garden & Sound mit VIERTEL FOUR
END:VEVENT
END:VCALENDAR
