BEGIN:VCALENDAR
VERSION:2.0
PRODID:-//www.reinach-redet.ch//NONSGML kigkonsult.se iCalcreator 2.22//
CALSCALE:GREGORIAN
METHOD:PUBLISH
X-WR-TIMEZONE:Europe/Berlin
BEGIN:VEVENT
UID:20260423T114852CEST-5630opI3cl@www.reinach-redet.ch
DTSTAMP:20260423T094852Z
DESCRIPTION:Klicken Sie auf den folgenden Link\, um weitere Informationen z
 ur Veranstaltung zu erhalten:\nhttp://www.reinach-redet.ch/de/veranstaltun
 gen/detail/detail.php?i=11019
DTSTART:20261023T190000
DTEND:20261023T210000
LOCATION:Gemeinde- und Schulbibliothek Reinach
SUMMARY:Ohne Geld bis ans Ende der Welt
END:VEVENT
END:VCALENDAR
