BEGIN:VCALENDAR
VERSION:2.0
PRODID:-//www.reinach-redet.ch//NONSGML kigkonsult.se iCalcreator 2.22//
CALSCALE:GREGORIAN
METHOD:PUBLISH
X-WR-TIMEZONE:Europe/Berlin
BEGIN:VEVENT
UID:20260423T114853CEST-0172cHE7pW@www.reinach-redet.ch
DTSTAMP:20260423T094853Z
DESCRIPTION:Klicken Sie auf den folgenden Link\, um weitere Informationen z
 ur Veranstaltung zu erhalten:\nhttp://www.reinach-redet.ch/de/veranstaltun
 gen/detail/detail.php?i=11020
DTSTART:20260530T090000
DTEND:20260530T160000
LOCATION:
SUMMARY:Flohmärt Ski-Club Reinach BL
END:VEVENT
END:VCALENDAR
